BEGIN:VCALENDAR
VERSION:2.0
PRODID:-//Polizei-Sport-Verein Berlin e.V. - Motorsportabteilung - ECPv6.15.20//NONSGML v1.0//EN
CALSCALE:GREGORIAN
METHOD:PUBLISH
X-ORIGINAL-URL:https://simracing.psv-berlin.de
X-WR-CALDESC:Veranstaltungen für Polizei-Sport-Verein Berlin e.V. - Motorsportabteilung
REFRESH-INTERVAL;VALUE=DURATION:PT1H
X-Robots-Tag:noindex
X-PUBLISHED-TTL:PT1H
BEGIN:VTIMEZONE
TZID:Europe/Berlin
BEGIN:DAYLIGHT
TZOFFSETFROM:+0100
TZOFFSETTO:+0200
TZNAME:CEST
DTSTART:20250330T010000
END:DAYLIGHT
BEGIN:STANDARD
TZOFFSETFROM:+0200
TZOFFSETTO:+0100
TZNAME:CET
DTSTART:20251026T010000
END:STANDARD
BEGIN:DAYLIGHT
TZOFFSETFROM:+0100
TZOFFSETTO:+0200
TZNAME:CEST
DTSTART:20260329T010000
END:DAYLIGHT
BEGIN:STANDARD
TZOFFSETFROM:+0200
TZOFFSETTO:+0100
TZNAME:CET
DTSTART:20261025T010000
END:STANDARD
BEGIN:DAYLIGHT
TZOFFSETFROM:+0100
TZOFFSETTO:+0200
TZNAME:CEST
DTSTART:20270328T010000
END:DAYLIGHT
BEGIN:STANDARD
TZOFFSETFROM:+0200
TZOFFSETTO:+0100
TZNAME:CET
DTSTART:20271031T010000
END:STANDARD
BEGIN:DAYLIGHT
TZOFFSETFROM:+0100
TZOFFSETTO:+0200
TZNAME:CEST
DTSTART:20280326T010000
END:DAYLIGHT
BEGIN:STANDARD
TZOFFSETFROM:+0200
TZOFFSETTO:+0100
TZNAME:CET
DTSTART:20281029T010000
END:STANDARD
END:VTIMEZONE
BEGIN:VEVENT
DTSTART;TZID=Europe/Berlin:20261223T100000
DTEND;TZID=Europe/Berlin:20270104T100000
DTSTAMP:20260419T212249
CREATED:20231104T144816Z
LAST-MODIFIED:20260108T104147Z
UID:558-1798020000-1799056800@simracing.psv-berlin.de
SUMMARY:4. Lauf zum Winterpokal 2026/27
DESCRIPTION:
URL:https://simracing.psv-berlin.de/event/4-lauf-winterpokal/
LOCATION:Assetto Corsa
CATEGORIES:SimRacing
END:VEVENT
BEGIN:VEVENT
DTSTART;TZID=Europe/Berlin:20270121T200000
DTEND;TZID=Europe/Berlin:20270121T220000
DTSTAMP:20260419T212249
CREATED:20231104T145033Z
LAST-MODIFIED:20260326T083413Z
UID:560-1800561600-1800568800@simracing.psv-berlin.de
SUMMARY:Jahreshauptversammlung
DESCRIPTION:Mit Siegerehrung für den SIM-Racing-Winterpokal.
URL:https://simracing.psv-berlin.de/event/jahreshauptversammlung/
LOCATION:Poseidon\, Fritz-Wildung-Straße 7a\, Berlin\, 14199
CATEGORIES:SimRacing
END:VEVENT
END:VCALENDAR