BEGIN:VCALENDAR
VERSION:2.0
PRODID:-//Polizei-Sport-Verein Berlin e.V. - Motorsportabteilung - ECPv6.15.20//NONSGML v1.0//EN
CALSCALE:GREGORIAN
METHOD:PUBLISH
X-WR-CALNAME:Polizei-Sport-Verein Berlin e.V. - Motorsportabteilung
X-ORIGINAL-URL:https://simracing.psv-berlin.de
X-WR-CALDESC:Veranstaltungen für Polizei-Sport-Verein Berlin e.V. - Motorsportabteilung
REFRESH-INTERVAL;VALUE=DURATION:PT1H
X-Robots-Tag:noindex
X-PUBLISHED-TTL:PT1H
BEGIN:VTIMEZONE
TZID:Europe/Berlin
BEGIN:DAYLIGHT
TZOFFSETFROM:+0100
TZOFFSETTO:+0200
TZNAME:CEST
DTSTART:20250330T010000
END:DAYLIGHT
BEGIN:STANDARD
TZOFFSETFROM:+0200
TZOFFSETTO:+0100
TZNAME:CET
DTSTART:20251026T010000
END:STANDARD
BEGIN:DAYLIGHT
TZOFFSETFROM:+0100
TZOFFSETTO:+0200
TZNAME:CEST
DTSTART:20260329T010000
END:DAYLIGHT
BEGIN:STANDARD
TZOFFSETFROM:+0200
TZOFFSETTO:+0100
TZNAME:CET
DTSTART:20261025T010000
END:STANDARD
BEGIN:DAYLIGHT
TZOFFSETFROM:+0100
TZOFFSETTO:+0200
TZNAME:CEST
DTSTART:20270328T010000
END:DAYLIGHT
BEGIN:STANDARD
TZOFFSETFROM:+0200
TZOFFSETTO:+0100
TZNAME:CET
DTSTART:20271031T010000
END:STANDARD
END:VTIMEZONE
BEGIN:VEVENT
DTSTART;TZID=Europe/Berlin:20261023T100000
DTEND;TZID=Europe/Berlin:20261102T100000
DTSTAMP:20260419T184448
CREATED:20231104T144157Z
LAST-MODIFIED:20260108T104027Z
UID:552-1792749600-1793613600@simracing.psv-berlin.de
SUMMARY:1. Lauf zum Winterpokal 2026/27
DESCRIPTION:
URL:https://simracing.psv-berlin.de/event/1-lauf-winterpokal/
LOCATION:Assetto Corsa
CATEGORIES:SimRacing
END:VEVENT
BEGIN:VEVENT
DTSTART;TZID=Europe/Berlin:20261113T100000
DTEND;TZID=Europe/Berlin:20261123T100000
DTSTAMP:20260419T184448
CREATED:20231104T144649Z
LAST-MODIFIED:20260108T104053Z
UID:554-1794564000-1795428000@simracing.psv-berlin.de
SUMMARY:2. Lauf zum Winterpokal 2026/27
DESCRIPTION:
URL:https://simracing.psv-berlin.de/event/2-lauf-winterpokal/
LOCATION:Assetto Corsa
CATEGORIES:SimRacing
END:VEVENT
BEGIN:VEVENT
DTSTART;TZID=Europe/Berlin:20261122T120000
DTEND;TZID=Europe/Berlin:20261122T170000
DTSTAMP:20260419T184448
CREATED:20231104T153304Z
LAST-MODIFIED:20260226T083437Z
UID:575-1795348800-1795366800@simracing.psv-berlin.de
SUMMARY:Jahressiegerehrung
DESCRIPTION:Mit Siegerehrung für das SIM-Turnier. \n 
URL:https://simracing.psv-berlin.de/event/siegerehrung/
LOCATION:Füchsewäldchen\, Freiheitsweg 18\, Berlin
CATEGORIES:SimRacing
END:VEVENT
END:VCALENDAR